BEGIN:VCALENDAR
VERSION:2.0
PRODID:-//Ingénieurs et Scientifiques d&#039;Alsace | ARISAL - ECPv6.15.17.1//NONSGML v1.0//EN
CALSCALE:GREGORIAN
METHOD:PUBLISH
X-WR-CALNAME:Ingénieurs et Scientifiques d&#039;Alsace | ARISAL
X-ORIGINAL-URL:https://www.arisal.org
X-WR-CALDESC:Évènements pour Ingénieurs et Scientifiques d&#039;Alsace | ARISAL
REFRESH-INTERVAL;VALUE=DURATION:PT1H
X-Robots-Tag:noindex
X-PUBLISHED-TTL:PT1H
BEGIN:VTIMEZONE
TZID:Europe/Paris
BEGIN:DAYLIGHT
TZOFFSETFROM:+0100
TZOFFSETTO:+0200
TZNAME:CEST
DTSTART:20210328T010000
END:DAYLIGHT
BEGIN:STANDARD
TZOFFSETFROM:+0200
TZOFFSETTO:+0100
TZNAME:CET
DTSTART:20211031T010000
END:STANDARD
BEGIN:DAYLIGHT
TZOFFSETFROM:+0100
TZOFFSETTO:+0200
TZNAME:CEST
DTSTART:20220327T010000
END:DAYLIGHT
BEGIN:STANDARD
TZOFFSETFROM:+0200
TZOFFSETTO:+0100
TZNAME:CET
DTSTART:20221030T010000
END:STANDARD
BEGIN:DAYLIGHT
TZOFFSETFROM:+0100
TZOFFSETTO:+0200
TZNAME:CEST
DTSTART:20230326T010000
END:DAYLIGHT
BEGIN:STANDARD
TZOFFSETFROM:+0200
TZOFFSETTO:+0100
TZNAME:CET
DTSTART:20231029T010000
END:STANDARD
END:VTIMEZONE
BEGIN:VEVENT
DTSTART;TZID=Europe/Paris:20220224T143000
DTEND;TZID=Europe/Paris:20220224T160000
DTSTAMP:20260419T194714
CREATED:20220221T095335Z
LAST-MODIFIED:20220221T095335Z
UID:41911-1645713000-1645718400@www.arisal.org
SUMMARY:Thomas Pesquet : records en orbite
DESCRIPTION:« Thomas Pesquet : records en orbite » \npar Jean-Yves Marchal\, Médiateur scientifique\, Jardin des sciences\, Université de Strasbourg \njeudi 24 février à 14h30\, médiathèque\, 24 rue du Maire Traband à Haguenau\n \nRéservation obligatoire au 03.88.90.68.10 ( La médiathèque est fermée le lundi)
URL:https://www.arisal.org/evenement/thomas-pesquet-records-en-orbite/
LOCATION:Médiathèque de Haguenau\, 24 Rue du Maire André Traband\, Haguenau\, 67500
CATEGORIES:Conférence
END:VEVENT
END:VCALENDAR