BEGIN:VCALENDAR
VERSION:2.0
PRODID:-//Ingénieurs et Scientifiques d&#039;Alsace | ARISAL - ECPv6.15.17.1//NONSGML v1.0//EN
CALSCALE:GREGORIAN
METHOD:PUBLISH
X-WR-CALNAME:Ingénieurs et Scientifiques d&#039;Alsace | ARISAL
X-ORIGINAL-URL:https://www.arisal.org
X-WR-CALDESC:Évènements pour Ingénieurs et Scientifiques d&#039;Alsace | ARISAL
REFRESH-INTERVAL;VALUE=DURATION:PT1H
X-Robots-Tag:noindex
X-PUBLISHED-TTL:PT1H
BEGIN:VTIMEZONE
TZID:Europe/Paris
BEGIN:DAYLIGHT
TZOFFSETFROM:+0100
TZOFFSETTO:+0200
TZNAME:CEST
DTSTART:20190331T010000
END:DAYLIGHT
BEGIN:STANDARD
TZOFFSETFROM:+0200
TZOFFSETTO:+0100
TZNAME:CET
DTSTART:20191027T010000
END:STANDARD
BEGIN:DAYLIGHT
TZOFFSETFROM:+0100
TZOFFSETTO:+0200
TZNAME:CEST
DTSTART:20200329T010000
END:DAYLIGHT
BEGIN:STANDARD
TZOFFSETFROM:+0200
TZOFFSETTO:+0100
TZNAME:CET
DTSTART:20201025T010000
END:STANDARD
BEGIN:DAYLIGHT
TZOFFSETFROM:+0100
TZOFFSETTO:+0200
TZNAME:CEST
DTSTART:20210328T010000
END:DAYLIGHT
BEGIN:STANDARD
TZOFFSETFROM:+0200
TZOFFSETTO:+0100
TZNAME:CET
DTSTART:20211031T010000
END:STANDARD
END:VTIMEZONE
BEGIN:VEVENT
DTSTART;TZID=Europe/Paris:20200306T163000
DTEND;TZID=Europe/Paris:20200306T183000
DTSTAMP:20260422T140145
CREATED:20191220T162804Z
LAST-MODIFIED:20191220T165533Z
UID:27925-1583512200-1583519400@www.arisal.org
SUMMARY:Réseau de chaleur du quartier du Wacken (Strasbourg)
DESCRIPTION:Présentation et visite des installations de  l’établissement de la Société R-CUA ( Réseaux de chaleur urbains d’ Alsace\, filiale de réseau GDS\,  Gaz de Strasbourg) par Monsieur Hervé LAMORLETTE\, Directeur Général. \n  \nCet établissement est une centrale  moderne de chauffage à distance par énergie renouvelable\,  comprenant un dispositif innovant de gestion prévisionnelle des périodes de chauffe par intelligence artificielle. \n \n  \n  \n  \n  \n  \nFiche technique :\n     Moyens de production \n\nMise en service : septembre 2016\nInvestissement : 12 M€\n2 chaudières biomasse (5 MW)\n2 chaudières gaz : (12 MW)\n+ 1 chaudière déportée gaz (9 MW)\n35.000 MWh de chaleur\nTaux ENR > 87%\n\n     Réseau : \n\n6 km de réseau\n19 sous-stations (fin 2017)\n500 équivalent logements\n\n     Particularités du projet / Innovations : \n\nBiomasse : plaquettes forestières (10.000 T/an)\nStockage eau chaude : 100 m3\nPilotage des paramètres techniques et du mix énergétique en temps réel par un outil doté d’intelligence artificielle (IA)\nConcept hydraulique innovant permettant le fonctionnement de 2 chaufferies en opposition\n\nLa centrale biomasse ECO-2 du Wacken à Strasbourg\nCe réseau urbain complète celui du paysage strasbourgeois \, réputé comme une des ville les plus équipées en réseaux de chaleur en France\, misant surtout sur la biomasse en tant qu’énergie renouvelable : plaquettes forestières locales et rafles de maïs \, ressource originale dont  l’ agriculture rhénane est productrice. Il est aussi prévu pour l’ extension du Quartier d’ Affaires International et pour  le futur Parc des Expositions. \nUn important dispositif de filtration sur les gaz de combustion permet de réduire les émissions à celles de deux barbecues\, en affichant 7000 tonnes de C02 évités par an. \nLes combustibles solides sont acheminés à raison d’ une rotation de  trois camions au maximum par jour \nLa visite sera suivie d’un repas (tardes flambées) au restaurant (participation facultative)\n \nS’Wacke Hiesel\, place de la Foire Exposition (à 800 m\, soit à 10 mn) \nhttp://www.swacke-hiesel.com/ \nInscription / Contact \nWilly KRESSER tél: 03 88 96 89 82 \nwilly.kresser@gmail.com \nLe groupe est limité à 19 personnes \nAccès: Tram B : arrêt Lycée Kléber ou Parc du Contades
URL:https://www.arisal.org/evenement/reseau-de-chaleur-du-quartier-du-wacken-strasbourg/
LOCATION:R-CUA Wacken\, 1 rue Kieffer\, Strasbourg\, 670000
CATEGORIES:Visite
ATTACH;FMTTYPE=image/jpeg:https://www.arisal.org/wp-content/uploads/2016/08/Pilone-electrique-soleil-ciel-bleu.jpg
END:VEVENT
END:VCALENDAR