BEGIN:VCALENDAR
VERSION:2.0
PRODID:-//Ingénieurs et Scientifiques d&#039;Alsace | ARISAL - ECPv6.15.17.1//NONSGML v1.0//EN
CALSCALE:GREGORIAN
METHOD:PUBLISH
X-WR-CALNAME:Ingénieurs et Scientifiques d&#039;Alsace | ARISAL
X-ORIGINAL-URL:https://www.arisal.org
X-WR-CALDESC:Évènements pour Ingénieurs et Scientifiques d&#039;Alsace | ARISAL
REFRESH-INTERVAL;VALUE=DURATION:PT1H
X-Robots-Tag:noindex
X-PUBLISHED-TTL:PT1H
BEGIN:VTIMEZONE
TZID:Europe/Paris
BEGIN:DAYLIGHT
TZOFFSETFROM:+0100
TZOFFSETTO:+0200
TZNAME:CEST
DTSTART:20220327T010000
END:DAYLIGHT
BEGIN:STANDARD
TZOFFSETFROM:+0200
TZOFFSETTO:+0100
TZNAME:CET
DTSTART:20221030T010000
END:STANDARD
BEGIN:DAYLIGHT
TZOFFSETFROM:+0100
TZOFFSETTO:+0200
TZNAME:CEST
DTSTART:20230326T010000
END:DAYLIGHT
BEGIN:STANDARD
TZOFFSETFROM:+0200
TZOFFSETTO:+0100
TZNAME:CET
DTSTART:20231029T010000
END:STANDARD
BEGIN:DAYLIGHT
TZOFFSETFROM:+0100
TZOFFSETTO:+0200
TZNAME:CEST
DTSTART:20240331T010000
END:DAYLIGHT
BEGIN:STANDARD
TZOFFSETFROM:+0200
TZOFFSETTO:+0100
TZNAME:CET
DTSTART:20241027T010000
END:STANDARD
END:VTIMEZONE
BEGIN:VEVENT
DTSTART;TZID=Europe/Paris:20230530T180000
DTEND;TZID=Europe/Paris:20230530T193000
DTSTAMP:20260424T184951
CREATED:20230524T095256Z
LAST-MODIFIED:20230524T095334Z
UID:46234-1685469600-1685475000@www.arisal.org
SUMMARY:L’Origine du monde - Une histoire naturelle des sols vivants
DESCRIPTION:Conférence : \n« L’Origine du monde – Une histoire naturelle des sols vivants » \nPar Marc-André SELOSSE\, Professeur au Museum National d’Histoire Naturelle\, conférencier et auteur de nombreux ouvrages sur les sols \nNous méconnaissons que la vie sur Terre se passe surtout… sous terre. Les sols sont construits par la biodiversité qu’ils hébergent : elle représente le quart des espèces décrites\, alors même qu’on ne connaît encore que 1 % des microbes du sol ! Le sol est l’une des plus étonnantes constructions du monde vivant\, qui influence le monde entier : depuis notre alimentation jusqu’à la fertilité des lacs et des océans\, en passant par la régulation du cours des rivières et même le climat ! \nEvénement organisé par la Maison pour la Science en Alsace\, SOLenVillE Strasbourg et Strasbourg Initiation Nature Environnement (SINE Strasbourg) dans le cadre du cycle « Levons les yeux au sol ! »  \nGratuit\, ouvert à tous sur réservation :  https://my.weezevent.com/conference-lorigine-du-monde \nMardi 30 mai à 18h\, salle Pasteur\, Palais Universitaire de Strasbourg
URL:https://www.arisal.org/evenement/lorigine-du-monde-une-histoire-naturelle-des-sols-vivants/
LOCATION:Palais universitaire – Salle Pasteur\, 9 place de l'Université\, Strasbourg\, 67000\, France
CATEGORIES:Conférence
ATTACH;FMTTYPE=:
END:VEVENT
END:VCALENDAR