BEGIN:VCALENDAR
VERSION:2.0
PRODID:-//Ingénieurs et Scientifiques d&#039;Alsace | ARISAL - ECPv6.15.17.1//NONSGML v1.0//EN
CALSCALE:GREGORIAN
METHOD:PUBLISH
X-WR-CALNAME:Ingénieurs et Scientifiques d&#039;Alsace | ARISAL
X-ORIGINAL-URL:https://www.arisal.org
X-WR-CALDESC:Évènements pour Ingénieurs et Scientifiques d&#039;Alsace | ARISAL
REFRESH-INTERVAL;VALUE=DURATION:PT1H
X-Robots-Tag:noindex
X-PUBLISHED-TTL:PT1H
BEGIN:VTIMEZONE
TZID:Europe/Paris
BEGIN:DAYLIGHT
TZOFFSETFROM:+0100
TZOFFSETTO:+0200
TZNAME:CEST
DTSTART:20190331T010000
END:DAYLIGHT
BEGIN:STANDARD
TZOFFSETFROM:+0200
TZOFFSETTO:+0100
TZNAME:CET
DTSTART:20191027T010000
END:STANDARD
BEGIN:DAYLIGHT
TZOFFSETFROM:+0100
TZOFFSETTO:+0200
TZNAME:CEST
DTSTART:20200329T010000
END:DAYLIGHT
BEGIN:STANDARD
TZOFFSETFROM:+0200
TZOFFSETTO:+0100
TZNAME:CET
DTSTART:20201025T010000
END:STANDARD
BEGIN:DAYLIGHT
TZOFFSETFROM:+0100
TZOFFSETTO:+0200
TZNAME:CEST
DTSTART:20210328T010000
END:DAYLIGHT
BEGIN:STANDARD
TZOFFSETFROM:+0200
TZOFFSETTO:+0100
TZNAME:CET
DTSTART:20211031T010000
END:STANDARD
END:VTIMEZONE
BEGIN:VEVENT
DTSTART;TZID=Europe/Paris:20201012T150000
DTEND;TZID=Europe/Paris:20201012T163000
DTSTAMP:20260420T062146
CREATED:20201005T100417Z
LAST-MODIFIED:20201005T100417Z
UID:35532-1602514800-1602520200@www.arisal.org
SUMMARY:Les plantes sont-elles intelligentes ?
DESCRIPTION:Conférence \n« Les plantes sont-elles intelligentes ? » \nLundi 12 octobre à 15h en Salle Pasteur au Palais universitaire – séance complète \nAvec FRANÇOIS BERNIER\, professeur de biologie à la Faculté des sciences de la vie\, Université de Strasbourg.\n \nUne conférence organisée dans le cadre de la Fête de la Science. \nAfin de respecter la distanciation physique\, les jauges ont été réduites et les conférences qui se déroulent à Strasbourg sont accessibles uniquement sur réservation : \nhttps://jds-reservation.unistra.fr/reservations-individuels/conferences/\nNous vous demandons également de porter un masque et d’arriver au plus tard 15 minutes avant le démarrage de la conférence. \nCes mesures seront adaptées tout au long de l’année en fonction de la réglementation. \nElsa Zettl-Constantopoulos\nChargée des actions culturelles en territoire\nTél : +33 (0)3 68 85 05 29\nelsa.constantopoulos@unistra.fr \nJardin des sciences de l’Université de Strasbourg\n12 rue de l’Université\nFR-67000 Strasbourg\nhttp://jardin-sciences.unistra.fr/
URL:https://www.arisal.org/evenement/les-plantes-sont-elles-intelligentes/
LOCATION:Palais universitaire – Salle Pasteur\, 9 place de l'Université\, Strasbourg\, 67000\, France
CATEGORIES:Conférence
ATTACH;FMTTYPE=image/jpeg:https://www.arisal.org/wp-content/uploads/2016/08/Fotolia_108095183_Subscription_Monthly_M.jpg
END:VEVENT
END:VCALENDAR