BEGIN:VCALENDAR
VERSION:2.0
PRODID:-//Ingénieurs et Scientifiques d&#039;Alsace | ARISAL - ECPv6.15.17.1//NONSGML v1.0//EN
CALSCALE:GREGORIAN
METHOD:PUBLISH
X-WR-CALNAME:Ingénieurs et Scientifiques d&#039;Alsace | ARISAL
X-ORIGINAL-URL:https://www.arisal.org
X-WR-CALDESC:Évènements pour Ingénieurs et Scientifiques d&#039;Alsace | ARISAL
REFRESH-INTERVAL;VALUE=DURATION:PT1H
X-Robots-Tag:noindex
X-PUBLISHED-TTL:PT1H
BEGIN:VTIMEZONE
TZID:Europe/Paris
BEGIN:DAYLIGHT
TZOFFSETFROM:+0100
TZOFFSETTO:+0200
TZNAME:CEST
DTSTART:20250330T010000
END:DAYLIGHT
BEGIN:STANDARD
TZOFFSETFROM:+0200
TZOFFSETTO:+0100
TZNAME:CET
DTSTART:20251026T010000
END:STANDARD
BEGIN:DAYLIGHT
TZOFFSETFROM:+0100
TZOFFSETTO:+0200
TZNAME:CEST
DTSTART:20260329T010000
END:DAYLIGHT
BEGIN:STANDARD
TZOFFSETFROM:+0200
TZOFFSETTO:+0100
TZNAME:CET
DTSTART:20261025T010000
END:STANDARD
BEGIN:DAYLIGHT
TZOFFSETFROM:+0100
TZOFFSETTO:+0200
TZNAME:CEST
DTSTART:20270328T010000
END:DAYLIGHT
BEGIN:STANDARD
TZOFFSETFROM:+0200
TZOFFSETTO:+0100
TZNAME:CET
DTSTART:20271031T010000
END:STANDARD
END:VTIMEZONE
BEGIN:VEVENT
DTSTART;TZID=Europe/Paris:20260122T180000
DTEND;TZID=Europe/Paris:20260122T200000
DTSTAMP:20260424T080829
CREATED:20251205T151847Z
LAST-MODIFIED:20260115T182631Z
UID:54179-1769104800-1769112000@www.arisal.org
SUMMARY:IESF - Alsace / ARISAL : Invitation "Galette" 2026
DESCRIPTION:Chers collègues et amis\, \nLe Conseil d’Administration d’IESF-Alsace vous invite à célébrer la nouvelle année 2026 et à nous retrouver autour d’une galette des rois\, après une brève présentation du bilan 2025 et du calendrier 2026 : \n\nDate : jeudi 22 Janvier 2026\, de 18h à 20 h \nOù : à la Maison de l’Ingénieur; Entrée 54 Boulevard d’Anvers à Strasbourg \n\nPartagez l’invitation autour de vous\nMais surtout inscrivez vous pour que nous puissions anticiper le nombre de galettes à préparer !!! \nLes personnes qui le souhaitent pourront assister à la présentation à distance. Nous leur enverrons le lien vers une réunion Teams \nA bientôt \n Je m’inscris
URL:https://www.arisal.org/evenement/iesf-alsace-arisal-invitation-galette-2026/
LOCATION:AI Arts et Industries Strasbourg\, 56 Boulevard d'Anvers\, Strasbourg\, 67000
ATTACH;FMTTYPE=image/png:https://www.arisal.org/wp-content/uploads/2024/12/1200-x-900.png
ORGANIZER;CN="ARISAL IESF-Alsace":MAILTO:secretariat.arisal@neuf.fr
END:VEVENT
END:VCALENDAR