BEGIN:VCALENDAR
VERSION:2.0
PRODID:-//Ingénieurs et Scientifiques d&#039;Alsace | ARISAL - ECPv6.15.17.1//NONSGML v1.0//EN
CALSCALE:GREGORIAN
METHOD:PUBLISH
X-WR-CALNAME:Ingénieurs et Scientifiques d&#039;Alsace | ARISAL
X-ORIGINAL-URL:https://www.arisal.org
X-WR-CALDESC:Évènements pour Ingénieurs et Scientifiques d&#039;Alsace | ARISAL
REFRESH-INTERVAL;VALUE=DURATION:PT1H
X-Robots-Tag:noindex
X-PUBLISHED-TTL:PT1H
BEGIN:VTIMEZONE
TZID:Europe/Paris
BEGIN:DAYLIGHT
TZOFFSETFROM:+0100
TZOFFSETTO:+0200
TZNAME:CEST
DTSTART:20210328T010000
END:DAYLIGHT
BEGIN:STANDARD
TZOFFSETFROM:+0200
TZOFFSETTO:+0100
TZNAME:CET
DTSTART:20211031T010000
END:STANDARD
BEGIN:DAYLIGHT
TZOFFSETFROM:+0100
TZOFFSETTO:+0200
TZNAME:CEST
DTSTART:20220327T010000
END:DAYLIGHT
BEGIN:STANDARD
TZOFFSETFROM:+0200
TZOFFSETTO:+0100
TZNAME:CET
DTSTART:20221030T010000
END:STANDARD
BEGIN:DAYLIGHT
TZOFFSETFROM:+0100
TZOFFSETTO:+0200
TZNAME:CEST
DTSTART:20230326T010000
END:DAYLIGHT
BEGIN:STANDARD
TZOFFSETFROM:+0200
TZOFFSETTO:+0100
TZNAME:CET
DTSTART:20231029T010000
END:STANDARD
END:VTIMEZONE
BEGIN:VEVENT
DTSTART;TZID=Europe/Paris:20220324T143000
DTEND;TZID=Europe/Paris:20220324T160000
DTSTAMP:20260419T194100
CREATED:20220315T172349Z
LAST-MODIFIED:20220315T172349Z
UID:42123-1648132200-1648137600@www.arisal.org
SUMMARY:Finale alsacienne du concours « Ma thèse en 180 secondes »
DESCRIPTION:Le Jardin des sciences de l’Université de Strasbourg et la délégation Alsace du CNRS ont le plaisir de vous convier à la finale alsacienne du concours « Ma thèse en 180 secondes » \n11 finalistes de l’Université de Strasbourg relèveront devant vous le défi de présenter leur projet de recherche de manière accessible\, en seulement 3 minutes. Trois prix seront décernés à l’issue de la finale par le public et le jury. \nQuand ? \nJeudi 24 mars 2022 à 14h30 \nPour suivre l’événement… \n=> En présentiel : \nAmphithéâtre Cavaillès\n(Campus Esplanade)\, Le Patio\, 22 rue René Descartes\, Strasbourg \nAccueil du public dès 13h45 dans le respect des règles sanitaires en vigueur à cette date \nInscription obligatoire : https://jds-reservation.unistra.fr/reservations-individuels/finale-mt180/ \n=> En ligne : \nPour suivre en direct l’événement sur la chaîne Youtube du Jardin des sciences : https://www.youtube.com/channel/UCaFARpCyW2HJYUfeXm6SkjA \nCe concours est soutenu par la MGEN\, la CASDEN\, l’Eurométropole de Strasbourg et la Région Grand Est.\n« Ma thèse en 180 secondes » est une action organisée à l’échelle nationale dans le cadre d’un partenariat entre le CNRS et France Universités. \nAu plaisir de vous y retrouver\, nous restons à votre disposition pour tout complément d’information. \nMeilleures salutations\, \nLe comité d’organisation du concours Ma thèse en 180 secondes édition alsacienne \nNina Pollard\nResponsable de la communication et du développement des publics\nTél : +33 (0)3 68 85 24 90\nTél 2 : +33 (0)6 08 36 98 55\nn.pollard@unistra.fr \nJardin des sciences\n12 rue de l’Université\nFR-67000 Strasbourg\nhttps://jardin-sciences.unistra.fr/
URL:https://www.arisal.org/evenement/finale-alsacienne-du-concours-ma-these-en-180-secondes/
LOCATION:Patio Université Strasbourg\, 22 rue René Descartes\, Strasbourg\, 67000\, France
CATEGORIES:Concours
ATTACH;FMTTYPE=image/jpeg:https://www.arisal.org/wp-content/uploads/2016/09/Fotolia_105524417_Subscription_Monthly_M.jpg
END:VEVENT
END:VCALENDAR