BEGIN:VCALENDAR
VERSION:2.0
PRODID:-//Ingénieurs et Scientifiques d&#039;Alsace | ARISAL - ECPv6.15.17.1//NONSGML v1.0//EN
CALSCALE:GREGORIAN
METHOD:PUBLISH
X-WR-CALNAME:Ingénieurs et Scientifiques d&#039;Alsace | ARISAL
X-ORIGINAL-URL:https://www.arisal.org
X-WR-CALDESC:Évènements pour Ingénieurs et Scientifiques d&#039;Alsace | ARISAL
REFRESH-INTERVAL;VALUE=DURATION:PT1H
X-Robots-Tag:noindex
X-PUBLISHED-TTL:PT1H
BEGIN:VTIMEZONE
TZID:Europe/Paris
BEGIN:DAYLIGHT
TZOFFSETFROM:+0100
TZOFFSETTO:+0200
TZNAME:CEST
DTSTART:20210328T010000
END:DAYLIGHT
BEGIN:STANDARD
TZOFFSETFROM:+0200
TZOFFSETTO:+0100
TZNAME:CET
DTSTART:20211031T010000
END:STANDARD
BEGIN:DAYLIGHT
TZOFFSETFROM:+0100
TZOFFSETTO:+0200
TZNAME:CEST
DTSTART:20220327T010000
END:DAYLIGHT
BEGIN:STANDARD
TZOFFSETFROM:+0200
TZOFFSETTO:+0100
TZNAME:CET
DTSTART:20221030T010000
END:STANDARD
BEGIN:DAYLIGHT
TZOFFSETFROM:+0100
TZOFFSETTO:+0200
TZNAME:CEST
DTSTART:20230326T010000
END:DAYLIGHT
BEGIN:STANDARD
TZOFFSETFROM:+0200
TZOFFSETTO:+0100
TZNAME:CET
DTSTART:20231029T010000
END:STANDARD
END:VTIMEZONE
BEGIN:VEVENT
DTSTART;TZID=Europe/Paris:20221011T200000
DTEND;TZID=Europe/Paris:20221011T220000
DTSTAMP:20260424T183415
CREATED:20221001T140256Z
LAST-MODIFIED:20221006T151246Z
UID:43972-1665518400-1665525600@www.arisal.org
SUMMARY:Face aux animaux : nos émotions\, nos préjugés\, nos ambivalences…
DESCRIPTION:Conférence \n… C’est l’histoire du lien très particulier que nous entretenons avec les animaux… \nAvec le Pr Laurent BEGUE-SHANKLAND\, Directeur de la Maison des sciences de l’Homme Alpes-Grenoble \nDepuis l’origine\, les animaux nous fascinent et nous terrorisent à la fois. Ils ont occupé une place centrale dans les civilisations passées et jouent\, aujourd’hui encore\, un rôle fondamental auprès des humains. Beaucoup investissent en eux toute leur affection\, toutes leurs émotions. \nPour percer à jour ce qui nous lie aux animaux\, Laurent BEGUE-SHANKLAND emprunte de nouveaux chemins qui dévoilent nos attachements et leurs ambivalences. Il révèle les profils individuels et les circonstances qui régissent notre empathie envers eux. \nEst-ce que nos relations avec les animaux\, de l’attachement à la maltraitance\, n’éclaireraient pas profondément notre identité et notre rapport à autrui ? \nCette soirée sera une plongée saisissante au cœur de nos relations affectives avec les animaux. \nJean-Pierre BULLIARD \nVice-Président IESF BFC et INSA FC
URL:https://www.arisal.org/evenement/face-aux-animaux-nos-emotions-nos-prejuges-nos-ambivalences/
LOCATION:Hôtel Bristol Montbéliard\, 2 rue Velotte\, Montbéliard\, 25200\, France
CATEGORIES:Conférence
ATTACH;FMTTYPE=image/jpeg:https://www.arisal.org/wp-content/uploads/2016/09/Fotolia_79075887_Subscription_Monthly_M.jpg
END:VEVENT
END:VCALENDAR