BEGIN:VCALENDAR
VERSION:2.0
PRODID:-//Ingénieurs et Scientifiques d&#039;Alsace | ARISAL - ECPv6.15.17.1//NONSGML v1.0//EN
CALSCALE:GREGORIAN
METHOD:PUBLISH
X-WR-CALNAME:Ingénieurs et Scientifiques d&#039;Alsace | ARISAL
X-ORIGINAL-URL:https://www.arisal.org
X-WR-CALDESC:Évènements pour Ingénieurs et Scientifiques d&#039;Alsace | ARISAL
REFRESH-INTERVAL;VALUE=DURATION:PT1H
X-Robots-Tag:noindex
X-PUBLISHED-TTL:PT1H
BEGIN:VTIMEZONE
TZID:Europe/Paris
BEGIN:DAYLIGHT
TZOFFSETFROM:+0100
TZOFFSETTO:+0200
TZNAME:CEST
DTSTART:20220327T010000
END:DAYLIGHT
BEGIN:STANDARD
TZOFFSETFROM:+0200
TZOFFSETTO:+0100
TZNAME:CET
DTSTART:20221030T010000
END:STANDARD
BEGIN:DAYLIGHT
TZOFFSETFROM:+0100
TZOFFSETTO:+0200
TZNAME:CEST
DTSTART:20230326T010000
END:DAYLIGHT
BEGIN:STANDARD
TZOFFSETFROM:+0200
TZOFFSETTO:+0100
TZNAME:CET
DTSTART:20231029T010000
END:STANDARD
BEGIN:DAYLIGHT
TZOFFSETFROM:+0100
TZOFFSETTO:+0200
TZNAME:CEST
DTSTART:20240331T010000
END:DAYLIGHT
BEGIN:STANDARD
TZOFFSETFROM:+0200
TZOFFSETTO:+0100
TZNAME:CET
DTSTART:20241027T010000
END:STANDARD
END:VTIMEZONE
BEGIN:VEVENT
DTSTART;TZID=Europe/Paris:20230227T150000
DTEND;TZID=Europe/Paris:20230227T163000
DTSTAMP:20260424T031809
CREATED:20230213T111322Z
LAST-MODIFIED:20230213T111356Z
UID:45188-1677510000-1677515400@www.arisal.org
SUMMARY:Cinéma d'animation japonais : "au pays des merveilles"
DESCRIPTION:Conférence : « Cinéma d’animation japonais : au pays des merveilles » \nPar NATHALIE BITTINGER\, Maîtresse de conférences en études cinématographiques\, Université de Strasbourg\nAprès la conférence\, la librairie Kléber propose une vente du dernier ouvrage de Nathalie Bittinger : Au pays des merveilles. Trésors de l’animation japonaise (éd. Hoëbeke\, Gallimard).\nLundi 27 février à 15h\, Salle Pasteur\, Palais Universitaire à Strasbourg
URL:https://www.arisal.org/evenement/cinema-danimation-japonais-au-pays-des-merveilles/
LOCATION:Palais universitaire – Salle Pasteur\, 9 place de l'Université\, Strasbourg\, 67000\, France
CATEGORIES:Conférence
ATTACH;FMTTYPE=image/jpeg:https://www.arisal.org/wp-content/uploads/2016/09/Fotolia_79075887_Subscription_Monthly_M.jpg
END:VEVENT
END:VCALENDAR