BEGIN:VCALENDAR
VERSION:2.0
PRODID:-//Ingénieurs et Scientifiques d&#039;Alsace | ARISAL - ECPv6.15.17.1//NONSGML v1.0//EN
CALSCALE:GREGORIAN
METHOD:PUBLISH
X-WR-CALNAME:Ingénieurs et Scientifiques d&#039;Alsace | ARISAL
X-ORIGINAL-URL:https://www.arisal.org
X-WR-CALDESC:Évènements pour Ingénieurs et Scientifiques d&#039;Alsace | ARISAL
REFRESH-INTERVAL;VALUE=DURATION:PT1H
X-Robots-Tag:noindex
X-PUBLISHED-TTL:PT1H
BEGIN:VTIMEZONE
TZID:Europe/Paris
BEGIN:DAYLIGHT
TZOFFSETFROM:+0100
TZOFFSETTO:+0200
TZNAME:CEST
DTSTART:20240331T010000
END:DAYLIGHT
BEGIN:STANDARD
TZOFFSETFROM:+0200
TZOFFSETTO:+0100
TZNAME:CET
DTSTART:20241027T010000
END:STANDARD
BEGIN:DAYLIGHT
TZOFFSETFROM:+0100
TZOFFSETTO:+0200
TZNAME:CEST
DTSTART:20250330T010000
END:DAYLIGHT
BEGIN:STANDARD
TZOFFSETFROM:+0200
TZOFFSETTO:+0100
TZNAME:CET
DTSTART:20251026T010000
END:STANDARD
BEGIN:DAYLIGHT
TZOFFSETFROM:+0100
TZOFFSETTO:+0200
TZNAME:CEST
DTSTART:20260329T010000
END:DAYLIGHT
BEGIN:STANDARD
TZOFFSETFROM:+0200
TZOFFSETTO:+0100
TZNAME:CET
DTSTART:20261025T010000
END:STANDARD
END:VTIMEZONE
BEGIN:VEVENT
DTSTART;TZID=Europe/Paris:20250315T090000
DTEND;TZID=Europe/Paris:20250315T170000
DTSTAMP:20260419T201602
CREATED:20241227T110052Z
LAST-MODIFIED:20250103T112447Z
UID:50445-1742029200-1742058000@www.arisal.org
SUMMARY:Challenge robotique First Lego League 2025 – Sélection Open Alsace
DESCRIPTION:  \n  \n  \nLe KidsLab by EH organise\nà la Halle au Blé à Altkirch\nla FLL Open Alsace le 15 mars 2025 \n  \n  \n  \n  \n  \n  \n  \nDurant l’année scolaire\, des jeunes de 9 à 16 ans doivent réfléchir à la thématique imposée en travaillant sur un dossier de recherche. En même temps\, ils doivent réaliser et programmer un robot LEGO® Mindstorms constitué de briques LEGO® « intelligentes » (dotées de capteurs\, moteurs et automatismes) le robot doit être capable de mener à bien une série d’épreuves dans un temps limité. \nAu bout de plusieurs semaines de préparation\, les équipes se rencontrent lors de tournois nationaux et/ou internationaux durant lesquels quatre axes sont évalués : conception et programmation du robot\, projet de recherche\, travail en équipe et match de robots. \nL’évènement a été labellisé JNI par IESF : \nFirst Lego League – Compétition robotique – Sélection Alsace – Journées Nationales de l’Ingénieur – IESF \nQui est First Lego Ligue (FLL) : voir pièces jointes \n \n\n\n\nEvènement Physique\n\n\nEntrée libre\n\n\n\n 
URL:https://www.arisal.org/evenement/challenge-robotique-first-lego-league-selection-open-alsa-2/
LOCATION:Halle au Blé Altkirch\, 1 Pl. X Jourdain\, Altkirch\, 68130
CATEGORIES:Concours
ATTACH;FMTTYPE=image/png:https://www.arisal.org/wp-content/uploads/2024/12/FLL.png
ORGANIZER;CN="KidsLab":MAILTO:Email : info@kidslab.education
END:VEVENT
END:VCALENDAR